BEGIN:VCALENDAR
VERSION:2.0
PRODID:gruene-hemmingen.de
METHOD:PUBLISH
BEGIN:VTIMEZONE
TZID:Europe/Berlin
X-LIC-LOCATION:Europe/Berlin
BEGIN:DAYLIGHT
TZOFFSETFROM:+0100
TZOFFSETTO:+0200
TZNAME:CEST
DTSTART:19700329T020000
RRULE:FREQ=YEARLY;INTERVAL=1;BYDAY=-1SU;BYMONTH=3
END:DAYLIGHT
BEGIN:STANDARD
TZOFFSETFROM:+0200
TZOFFSETTO:+0100
TZNAME:CET
DTSTART:19701025T030000
RRULE:FREQ=YEARLY;INTERVAL=1;BYDAY=-1SU;BYMONTH=10
END:STANDARD
END:VTIMEZONE
BEGIN:VEVENT
UID:b2c82a3d67bf7004a05510cdc0d70ae5@gruene-hemmingen.de
URL;VALUE=URI:https://gruene-hemmingen.de/termine/weihnachtsmarkt/
LOCATION:Rathausplatz Hemmingen
SUMMARY:Weihnachtsmarkt
DESCRIPTION;ALTREP="data:text/html,%0A%3Cp%3EBesucht%20uns%20auf%20dem%20
 Weihnachtsmarkt%21%20Es%20gibt%20Apfelpunsch%20und%20ihr%20k%C3%B6nnt%20e
 ure%20alten%20Brillen%20und%20Verbandsk%C3%A4sten%20bei%20uns%20abgeben%2
 0%E2%80%93%20f%C3%BCr%20den%20guten%20Zweck%21%3C%2Fp%3E%0A":Besucht uns 
 auf dem Weihnachtsmarkt! Es gibt Apfelpunsch und ihr könnt eure alten Br
 illen und Verbandskästen bei uns abgeben – für den guten Zweck!
CLASS:PUBLIC
DTSTART;TZID=Europe/Berlin:20241214T140000
DTEND;TZID=Europe/Berlin:20241215T190000
DTSTAMP:20260426T012916
END:VEVENT
END:VCALENDAR