BEGIN:VCALENDAR
VERSION:2.0
PRODID:gruene-hemmingen.de
METHOD:PUBLISH
BEGIN:VTIMEZONE
TZID:Europe/Berlin
X-LIC-LOCATION:Europe/Berlin
BEGIN:DAYLIGHT
TZOFFSETFROM:+0100
TZOFFSETTO:+0200
TZNAME:CEST
DTSTART:19700329T020000
RRULE:FREQ=YEARLY;INTERVAL=1;BYDAY=-1SU;BYMONTH=3
END:DAYLIGHT
BEGIN:STANDARD
TZOFFSETFROM:+0200
TZOFFSETTO:+0100
TZNAME:CET
DTSTART:19701025T030000
RRULE:FREQ=YEARLY;INTERVAL=1;BYDAY=-1SU;BYMONTH=10
END:STANDARD
END:VTIMEZONE
BEGIN:VEVENT
UID:256c11d237e588e4cc0312756c6d9078@gruene-hemmingen.de
URL;VALUE=URI:https://gruene-hemmingen.de/termine/weg-von-putins-oel-kohl
 e-und-gas/
LOCATION:
SUMMARY:44. GRÜNES Stadtgespräch (Sonderausgabe)
DESCRIPTION;ALTREP="data:text/html,%0A%3Ch2%20class%3D%22wp-block-heading
 %22%3EWeg%20von%20Putins%20%C3%96l%2C%20Kohle%20und%20Gas.%20%3Cstrong%3E
 %E2%80%93%20Wie%20organisieren%20und%20finanzieren%20wir%20den%20Turbo%20
 f%C3%BCr%20Energiewende%20und%20Klimaschutz%3F%3C%2Fstrong%3E%3C%2Fh2%3E%
 0A%0A%0A%0A%3Cfigure%20class%3D%22wp-block-image%20alignright%20size-medi
 um%20is-resized%22%3E%3Cimg%20src%3D%22https%3A%2F%2Fgruene-hemmingen.de%
 2Fwp-content%2Fuploads%2Fsites%2F68%2F2022%2F03%2F44.-GRU%CC%88NES-Stadtg
 espra%CC%88ch-300x300.png%22%20alt%3D%22GR%C3%9CNES%20Stadtgespr%C3%A4ch%
 22%20class%3D%22wp-image-682%22%20width%3D%22326%22%20height%3D%22326%22%
 20%2F%3E%3C%2Ffigure%3E%0A%0A%0A%0A%3Cp%20class%3D%22has-text-align-left%
 22%3EPutins%20Angriffskrieg%20gegen%20die%20Ukraine%20%C3%BCberschattet%2
 0derzeit%20alles.%20Viele%20sicher%20geglaubte%20Rahmenbedingungen%2C%20Z
 ukunftspl%C3%A4ne%20und%20politische%20Visionen%20hat%20er%20in%20k%C3%BC
 rzester%20Zeit%20au%C3%9Fer%20Kraft%20gesetzt.%20Die%20Auswirkungen%20sin
 d%20nicht%20vorhersehbar%2C%20ein%20belastbarer%20energiepolitischer%20un
 d%20-wirtschaftlicher%20Ausblick%20scheint%20derzeit%20kaum%20m%C3%B6glic
 h.%20Entsprechend%20gro%C3%9F%20ist%20die%20Sorge%20um%20unsere%20Energie
 zukunft.%26nbsp%3B%3C%2Fp%3E%0A%0A%0A%0A%3Cp%3EIn%20der%20jetzigen%20Kris
 e%20zeigt%20sich%2C%20dass%20die%20Energiepolitik%20der%20letzten%20Jahrz
 ehnte%20nicht%20nur%20dem%20Klima%20erheblichen%20Schaden%20zugef%C3%BCgt
 %20hat%2C%20sondern%20zudem%20der%20deutschen%20Wirtschaft%20und%20Gesell
 schaft%20gro%C3%9Fen%20Risiken%20ausgesetzt%20hat%2C%20die%20untersch%C3%
 A4tzt%20wurden%20und%20die%20sich%20jetzt%20r%C3%A4chen.%20Es%20gilt%20nu
 n%2C%20im%20Krisenmodus%20nicht%20nur%20auf%20Sicht%20zu%20fahren%20und%2
 0die%20Dynamik%20f%C3%BCr%20den%20Transformationsprozess%20nicht%20zu%20v
 erlieren.%20Au%C3%9Ferdem%20bietet%20sich%20aktuell%20die%20Chance%2C%20d
 as%20Projekt%20Energiewende%2C%20das%20jetzt%20mehr%20denn%20je%20f%C3%BC
 r%20die%20Sicherheit%2C%20Unabh%C3%A4ngigkeit%20und%20Freiheit%20Deutschl
 ands%20und%20Europas%20steht%2C%20nochmal%20zu%20beschleunigen.%3C%2Fp%3E
 %0A%0A%0A%0A%3Cp%3EMit%26nbsp%3B%3Cstrong%3EAnja%20Floetenmeyer-Woltmann%
 3C%2Fstrong%3E%2C%20seit%20dem%2001.01.2022%20neue%20Gesch%C3%A4ftsf%C3%B
 Chrerin%20der%26nbsp%3B%3Ca%20rel%3D%22noreferrer%20noopener%22%20href%3D
 %22https%3A%2F%2Fklimaschutzagentur.de%2F%22%20target%3D%22_blank%22%3EKl
 imaschutzagentur%20Region%20Hannover%20GmbH%3C%2Fa%3E%2C%26nbsp%3Bund%26n
 bsp%3B%3Cstrong%3ESven-Christian%20Kindler%3C%2Fstrong%3E%2C%20%3Ca%20hre
 f%3D%22https%3A%2F%2Fwww.sven-kindler.de%2F%22%20target%3D%22_blank%22%20
 rel%3D%22noreferrer%20noopener%22%3EMitglied%20des%20Deutschen%20Bundesta
 ges%26nbsp%3Bund%20Sprecher%20f%C3%BCr%20Haushaltspolitik%20der%20GR%C3%9
 CNEN%20Bundestagsfraktion%3C%2Fa%3E%2C%20wollen%20wir%20dar%C3%BCber%20di
 skutieren%2C%20wie%20Energiewende%20und%20Klimaschutz%20jetzt%20organisie
 rt%20werden%20muss%20und%20finanziert%20werden%20kann.%20Moderiert%20wird
 %20die%20Veranstaltung%20von%26nbsp%3B%3Cstrong%3EEvrim%20Camuz%3C%2Fstro
 ng%3E%2C%20Vorsitzende%20der%20%3Ca%20href%3D%22https%3A%2F%2Fregionsfrak
 tion-gruene-hannover.de%2Fpersonen%2Fevrim-camuz-stadtteilgruppe-linden-l
 immer%22%20target%3D%22_blank%22%20rel%3D%22noreferrer%20noopener%22%3EGr
 %C3%BCnen%20Fraktion%20in%20der%20Regionsversammlung.%3C%2Fa%3E%3C%2Fp%3E
 %0A%0A%0A%0A%3Cp%3E%3Cem%3EDie%20Diskussionsveranstaltung%20wird%20am%200
 7.04.2022%20um%2020.00%20Uhr%20online%20via%20%E2%80%9EZoom%E2%80%9C%20st
 attfinden.%3C%2Fem%3E%3C%2Fp%3E%0A%0A%0A%0A%3Cp%3E%3Cstrong%3EZur%20Anmel
 dung%3A%20%3Ca%20rel%3D%22noreferrer%20noopener%22%20href%3D%22https%3A%2
 F%2Fgruenlink.de%2F2hjn%22%20target%3D%22_blank%22%3Ehttps%3A%2F%2Fgruenl
 ink.de%2F2hjn%3C%2Fa%3E.%3C%2Fstrong%3E%3C%2Fp%3E%0A":Weg von Putins Öl\
 , Kohle und Gas. – Wie organisieren und finanzieren wir den Turbo für 
 Energiewende und Klimaschutz?\n\nPutins Angriffskrieg gegen die Ukraine 
 überschattet derzeit alles. Viele sicher geglaubte Rahmenbedingungen\, Z
 ukunftspläne und politische Visionen hat er in kürzester Zeit außer Kr
 aft gesetzt. Die Auswirkungen sind nicht vorhersehbar\, ein belastbarer e
 nergiepolitischer und -wirtschaftlicher Ausblick scheint derzeit kaum mö
 glich. Entsprechend groß ist die Sorge um unsere Energiezukunft. \n\nIn
  der jetzigen Krise zeigt sich\, dass die Energiepolitik der letzten Jahr
 zehnte nicht nur dem Klima erheblichen Schaden zugefügt hat\, sondern zu
 dem der deutschen Wirtschaft und Gesellschaft großen Risiken ausgesetzt 
 hat\, die unterschätzt wurden und die sich jetzt rächen. Es gilt nun\, 
 im Krisenmodus nicht nur auf Sicht zu fahren und die Dynamik für den Tra
 nsformationsprozess nicht zu verlieren. Außerdem bietet sich aktuell die
  Chance\, das Projekt Energiewende\, das jetzt mehr denn je für die Sich
 erheit\, Unabhängigkeit und Freiheit Deutschlands und Europas steht\, no
 chmal zu beschleunigen.\n\nMit Anja Floetenmeyer-Woltmann\, seit dem 01.
 01.2022 neue Geschäftsführerin der Klimaschutzagentur Region Hannover 
 GmbH\, und Sven-Christian Kindler\, Mitglied des Deutschen Bundestages
  und Sprecher für Haushaltspolitik der GRÜNEN Bundestagsfraktion\, wol
 len wir darüber diskutieren\, wie Energiewende und Klimaschutz jetzt org
 anisiert werden muss und finanziert werden kann. Moderiert wird die Veran
 staltung von Evrim Camuz\, Vorsitzende der Grünen Fraktion in der Regio
 nsversammlung.\n\nDie Diskussionsveranstaltung wird am 07.04.2022 um 20.0
 0 Uhr online via „Zoom“ stattfinden.\n\nZur Anmeldung: https://gruenl
 ink.de/2hjn.
CLASS:PUBLIC
DTSTART;TZID=Europe/Berlin:20220407T200000
DTEND;TZID=Europe/Berlin:20220407T213000
DTSTAMP:20260419T223744
END:VEVENT
END:VCALENDAR